BEGIN:VCALENDAR
METHOD:PUBLISH
VERSION:2.0
CALSCALE:GREGORIAN
PRODID:-//NONSGML WPForms//NONSGML Sugar Calendar Feeds v3.11.0//EN
X-WR-CALNAME:Dinner-for-a-Cause
X-WR-CALDESC:Burien Elks
X-WR-TIMEZONE:America/Los_Angeles
BEGIN:VTIMEZONE
TZID:America/Los_Angeles
BEGIN:DAYLIGHT
TZOFFSETFROM:-0700
TZOFFSETTO:-0700
DTSTART:20270422T050000
TZNAME:PDT
END:DAYLIGHT
END:VTIMEZONE
BEGIN:VTIMEZONE
TZID:America/Los_Angeles
BEGIN:DAYLIGHT
TZOFFSETFROM:-0700
TZOFFSETTO:-0700
DTSTART:20270422T050000
TZNAME:PDT
END:DAYLIGHT
END:VTIMEZONE
BEGIN:VEVENT
SUMMARY:Dinner for a Cause
DESCRIPTION:
URL;VALUE=URI:https://burienelks.com/sc_recurring_event/dinner-for-a-cau
 se-2/
UID:urn:uuid:cb28c4aa-e688-4a1b-9450-ba064e56ad4f
STATUS:CONFIRMED
ORGANIZER:
DTSTAMP:20260421T012019Z
DTSTART;TZID=America/Los_Angeles:20271021T170000
DTEND;TZID=America/Los_Angeles:20271021T200000
RRULE:FREQ=MONTHLY;INTERVAL=1
LOCATION:14006 1st Ave S
END:VEVENT
END:VCALENDAR