BEGIN:VCALENDAR
METHOD:PUBLISH
VERSION:2.0
CALSCALE:GREGORIAN
PRODID:-//NONSGML WPForms//NONSGML Sugar Calendar Feeds v3.11.0//EN
X-WR-CALNAME:Lodge-Meeting
X-WR-CALDESC:Burien Elks
X-WR-TIMEZONE:America/Los_Angeles
BEGIN:VTIMEZONE
TZID:America/Los_Angeles
BEGIN:DAYLIGHT
TZOFFSETFROM:-0800
TZOFFSETTO:-0700
DTSTART:20280312T100000
TZNAME:PDT
END:DAYLIGHT
END:VTIMEZONE
BEGIN:VTIMEZONE
TZID:America/Los_Angeles
BEGIN:DAYLIGHT
TZOFFSETFROM:-0800
TZOFFSETTO:-0700
DTSTART:20280312T100000
TZNAME:PDT
END:DAYLIGHT
END:VTIMEZONE
BEGIN:VEVENT
SUMMARY:Lodge Meeting
DESCRIPTION:Lodge Meetings are the 2nd and 4th Thursday of the month sta
 rting at 7:00 p.m. All Elks are welcome.
URL;VALUE=URI:https://burienelks.com/sc_recurring_event/lodge-meeting/
UID:urn:uuid:91c6db64-8093-47c7-9e96-65266760655e
STATUS:CONFIRMED
ORGANIZER:
DTSTAMP:20260420T211952Z
DTSTART;TZID=America/Los_Angeles:20280727T190000
DTEND;TZID=America/Los_Angeles:20280727T190000
RRULE:FREQ=MONTHLY;INTERVAL=1
LOCATION:14006 1st Ave S
END:VEVENT
END:VCALENDAR