BEGIN:VCALENDAR
METHOD:PUBLISH
VERSION:2.0
CALSCALE:GREGORIAN
PRODID:-//NONSGML WPForms//NONSGML Sugar Calendar Feeds v3.11.0//EN
X-WR-CALNAME:Prime-Rib-Dinner
X-WR-CALDESC:Burien Elks
X-WR-TIMEZONE:America/Los_Angeles
BEGIN:VTIMEZONE
TZID:America/Los_Angeles
BEGIN:DAYLIGHT
TZOFFSETFROM:-0800
TZOFFSETTO:-0700
DTSTART:20270314T100000
TZNAME:PDT
END:DAYLIGHT
END:VTIMEZONE
BEGIN:VTIMEZONE
TZID:America/Los_Angeles
BEGIN:DAYLIGHT
TZOFFSETFROM:-0800
TZOFFSETTO:-0700
DTSTART:20270314T100000
TZNAME:PDT
END:DAYLIGHT
END:VTIMEZONE
BEGIN:VEVENT
SUMMARY:Prime Rib Dinner
DESCRIPTION:Friday Night Prime Rib Special\, first and third Fridays. Ou
 r kitchen produces some of the best food in Elkdom!\n\nReservations requ
 ired: 206-243-2143
URL;VALUE=URI:https://burienelks.com/sc_recurring_event/prime-rib-dinner
 -4/
UID:urn:uuid:ec9e27c3-d183-4aef-8785-b5e9d8c4c3be
STATUS:CONFIRMED
ORGANIZER:
DTSTAMP:20260421T001525Z
DTSTART;TZID=America/Los_Angeles:20270730T170000
DTEND;TZID=America/Los_Angeles:20270730T200000
RRULE:FREQ=WEEKLY;INTERVAL=1
LOCATION:14006 1st Ave S
END:VEVENT
END:VCALENDAR