BEGIN:VCALENDAR
METHOD:PUBLISH
VERSION:2.0
CALSCALE:GREGORIAN
PRODID:-//NONSGML WPForms//NONSGML Sugar Calendar Feeds v3.11.0//EN
X-WR-CALNAME:The Elks Hoop Shoot
X-WR-CALDESC:Burien Elks
X-WR-TIMEZONE:America/Los_Angeles
BEGIN:VTIMEZONE
TZID:America/Los_Angeles
BEGIN:STANDARD
TZOFFSETFROM:-0700
TZOFFSETTO:-0800
DTSTART:20251102T090000
TZNAME:PST
END:STANDARD
END:VTIMEZONE
BEGIN:VTIMEZONE
TZID:America/Los_Angeles
BEGIN:STANDARD
TZOFFSETFROM:-0700
TZOFFSETTO:-0800
DTSTART:20251102T090000
TZNAME:PST
END:STANDARD
END:VTIMEZONE
BEGIN:VEVENT
SUMMARY:The Elks Hoop Shoot
DESCRIPTION:The Elks Hoop Shoot has been unleashing gritty kids for ove
 r 50 years. The Elks Hoop Shoot is a free throw program for youth ages 8
 -13. The Hoop Shoot contests for the 2025-2026 season are happening in 
 November 2025\, with local Lodge contests taking place in early November
 . Winners then advance to the District\, State\, and Regional contests\,
  with the National Finals taking place in April 2026.\n\n\n\n 	Check eli
 gibility: You must be between the ages of 8 and 13 as of April 1\, 2026
 \, to participate.\n 	Pre-registration: While not always required\, pre
 -registering can offer benefits like entries into drawings for prizes.\n
  	Compete: The Hoop Shoot is a free throw contest. You can only enter o
 ne Lodge contest. \n\nContest timeline\n\n 	November 2025: Local Lodge
  contests are held.\n 	January–March 2026: District\, State\, and Reg
 ional contests take place.\n 	April 26\, 2026: The National Finals are 
 held in Chicago\, IL.\n\n\n\nTO SIGN-UP: Call 206-243-2143 or email: bur
 ienelkssecretary@comcast.net\n\nFor more information\, visit: https://ww
 w.elks.org/hoopshoot/
URL;VALUE=URI:https://burienelks.com/events/the-elks-hoop-shoot/
UID:urn:uuid:acacff44-105b-494e-9edc-4f35151a3f79
STATUS:CONFIRMED
ORGANIZER:
DTSTAMP:20260426T031023Z
DTSTART;TZID=America/Los_Angeles:20251115T110000
DTEND;TZID=America/Los_Angeles:20251115T140000
LOCATION:14006 1st Ave S
END:VEVENT
END:VCALENDAR